BEGIN:VCALENDAR
PRODID:-//eluceo/ical//2.0/EN
VERSION:2.0
CALSCALE:GREGORIAN
BEGIN:VEVENT
UID:event-3347
DTSTAMP:20260424T025813Z
SUMMARY:Online cursus 'Administratie' - voorjaar 2025
DESCRIPTION:voor de zelfstandige remedial teacher of begeleider in het onde
 rwijs Heb je een eigen praktijk? Of wil je gaan starten met een eigen prak
 tijk? En wil je graag meer weten over het opzetten van een degelijke admin
 istratie? In deze cursus leer je: hoe je de administratie van je eigen pra
 ktijk goed kunt opzetten en voeren Tarieven Facturatie Belastingen Verzeke
 ringen Lesmateriaal: Het lesmateriaal (reader) is geschreven door Miranda 
 Versluis en Gerald Versluis. Je krijgt de informatie stapsgewijs aangebode
 n\, zodat je de lesstof gemakkelijk kunt opnemen en onthouden. De vakontwi
 kkelingen zijn up-to-date\, hierdoor heb je altijd de meest actuele kennis
  in huis. Docenten: Miranda Versluis MSEN: praktijkeigenaar RT Toppertjes
  Gerald Versluis: dataspecialist\, partner van RT Toppertjes\, specialisa
 tie beheer\, administratie en regelgeving Datum: maandag 17 maart 2025 va
 n 19.30-21.00 uur (ONLINE). Accreditatiepunten: 3 Kosten: € 85\,- | led
 en van de LBRT krijgen een ledenkorting van € 25\,-  en betalen € 60\
 ,- Nog geen lid? Klik hier om lid te worden. Voor eventuele vragen of op
 merkingen\, kun je een e-mailbericht sturen naar: bureau@lbrt.nl Module 2
  in reeks van 4: Deze cursus is onderdeel van een reeks van online modules
  die betrekking hebben op het voeren van een eigen praktijk. Je kunt deze 
 bijeenkomsten als losse modules\, maar ook in zijn geheel volgen. Heb je n
 og meer onderwerpen waar je interesse hebt? Kijk voor meer informatie bij 
 de cursus 'Eigen Praktijk'.
DTSTART:20250317T183000Z
DTEND:20250317T200000Z
LOCATION:Online
END:VEVENT
BEGIN:VTIMEZONE
TZID:UTC
BEGIN:STANDARD
DTSTART:20250317T183000
TZNAME:UTC
TZOFFSETTO:+0000
TZOFFSETFROM:+0000
END:STANDARD
END:VTIMEZONE
END:VCALENDAR
