BEGIN:VCALENDAR
PRODID:-//eluceo/ical//2.0/EN
VERSION:2.0
CALSCALE:GREGORIAN
BEGIN:VEVENT
UID:event-3454
DTSTAMP:20260425T174405Z
SUMMARY:Masterclass Rekenproblemen en Dyscalculie - Najaar 2026 - Deel 2
DESCRIPTION:De LBRT ACADEMIE organiseert masterclasses Rekenproblemen en D
 yscalculie: Reken- en wiskundeproblemen en Dyscalculie DEEL 2 Tijdens deze
  masterclass leer je hoe je (ernstige) rekenproblemen effectief kunt behan
 delen en ga je aan de slag met eigen casuïstiek. Centraal staat de prakti
 sche vertaling van Masterclass deel 1. Inhoud: het uitvoeren van een reken
 onderzoek aanwijzingen voor het behandelen van rekenproblemen. opzetten va
 n een handelingsplan  keuze maken in de begeleiding inzetten van reken(on
 derzoek)materialen. Bij succesvol afronden van masterclasses deel 1 én de
 el 2 kun je de titel 'Specialist ERWD’ voeren in je professionele commu
 nicatie. Doelgroep: RT'ers\, leerkrachten\, pedagogen\, IB-ers en specia
 listen Voorwaarde: Masterclass Rekenproblemen en Dyscalculie deel 1 gevo
 lgd hebben. Docent: Drs. Joep van Vugt Data: van 10:00-14:00 uur incl. lu
 nch op vrijdagen 13/11\, 27/11 en 11/12 2026. Locatie: Kosterijland 7-A B
 unnik Lesmateriaal: Via de docent tijdens de cursus. Accreditatiepunten: 
 20 exclusief eindopracht\; 60 inclusief eindopdracht. Kosten: € 425\,- 
 | Leden van de LBRT krijgen een ledenkorting van € 75\,- en betalen € 
 350\,-  Nog geen lid? Klik hier om lid te worden.  Meer informatie: Kl
 ik hier voor aanvullende informatie Voor eventuele vragen of opmerkingen\,
  kun je een e-mailbericht sturen naar:  bureau@lbrt.nl
DTSTART:20261113T090000Z
DTEND:20261211T130000Z
LOCATION:LBRT Bureau
END:VEVENT
BEGIN:VTIMEZONE
TZID:UTC
BEGIN:STANDARD
DTSTART:20261113T090000
TZNAME:UTC
TZOFFSETTO:+0000
TZOFFSETFROM:+0000
END:STANDARD
END:VTIMEZONE
END:VCALENDAR
